BEGIN:VCALENDAR
VERSION:2.0
PRODID:-//Planeta Budowlana - ECPv6.15.15//NONSGML v1.0//EN
CALSCALE:GREGORIAN
METHOD:PUBLISH
X-ORIGINAL-URL:https://planeta-budowlana.pl
X-WR-CALDESC:Wydarzenia dla Planeta Budowlana
REFRESH-INTERVAL;VALUE=DURATION:PT1H
X-Robots-Tag:noindex
X-PUBLISHED-TTL:PT1H
BEGIN:VTIMEZONE
TZID:Europe/Warsaw
BEGIN:DAYLIGHT
TZOFFSETFROM:+0100
TZOFFSETTO:+0200
TZNAME:CEST
DTSTART:20230326T010000
END:DAYLIGHT
BEGIN:STANDARD
TZOFFSETFROM:+0200
TZOFFSETTO:+0100
TZNAME:CET
DTSTART:20231029T010000
END:STANDARD
BEGIN:DAYLIGHT
TZOFFSETFROM:+0100
TZOFFSETTO:+0200
TZNAME:CEST
DTSTART:20240331T010000
END:DAYLIGHT
BEGIN:STANDARD
TZOFFSETFROM:+0200
TZOFFSETTO:+0100
TZNAME:CET
DTSTART:20241027T010000
END:STANDARD
BEGIN:DAYLIGHT
TZOFFSETFROM:+0100
TZOFFSETTO:+0200
TZNAME:CEST
DTSTART:20250330T010000
END:DAYLIGHT
BEGIN:STANDARD
TZOFFSETFROM:+0200
TZOFFSETTO:+0100
TZNAME:CET
DTSTART:20251026T010000
END:STANDARD
END:VTIMEZONE
BEGIN:VEVENT
DTSTART;TZID=Europe/Warsaw:20240411T090000
DTEND;TZID=Europe/Warsaw:20240411T160000
DTSTAMP:20260421T045531
CREATED:20240326T164810Z
LAST-MODIFIED:20240326T164810Z
UID:62971-1712826000-1712851200@planeta-budowlana.pl
SUMMARY:- KRAKÓW - SEMIN -Techniki wykańczania powierzchni z zastosowaniem technologii AIRLESS
DESCRIPTION:***Nowoczesne Techniki wykańczania powierzchni z zastosowaniem technologii AIRLESS***\nPartnerzy szkolenia:\nSemin Polska\nScangrip\nMirka\nFLEX\nEUROMAIR\nGRONE \nTemat szkolenia:\nOmówienie produktów Semin Polska + natrysk przy zastosowaniu agregatów GRONE\, Euromair – Miłosław Semin Polska\, Tomasz Jóźwiak Planeta Budowlana\nZastosowanie w praktyce narzędzi do szlifowania oraz dobór materiałów ściernych w zależności od podłoża – na bazie narzędzi MIRKA i FLEX\nOświetlenie budowy przy wsparciu marki Scangrip \n\n\n\nKIEDY    \n11.04.2021 godz. 9.00 – 16.00\n\n\nGDZIE    \nKRAKÓW\, ul. Przewóz 21\n\n\nFORMA SZKOLENIA    \n1. WYKŁAD TEORETYCZNY\n2. TRENING PRAKTYCZNY z wykorzystaniem udostępnionych materiałów i narzędzi pod okiem\nwykwalifikowanych trenerów\n\n\nZAKRES SZKOLENIA   \n1. Zastosowanie mas szpachlowych finiszowych i startowych z oferty SEMIN (ExpertLiss\,       Proliss\, 3w1\, UFF\, EXTREM\n2. Techniki spoinowania z wykorzystanie różnych narzędzi\n3. Masy szpachlowe do spoinowania z zastosowaniem taśm i bez taśmowe (masy szpachlowe       CE78 Perfect Joint\, CE78 Perfect Light spoinowania CE 86 PATE)\n4. Trendy w materiałach wykończeniowych wykorzystywanych przy systemach Airless\n5. Przygotowanie podłoża przed wykonaniem warstw wierzchnich\n6. Omówienie prawidłowych technik aplikacji metodą natrysku Airless\n7. Szlifowanie bezpyłowe przy użyciu narzędzi MIRKA i FLEX\n8. Prawidłowe doświetlenie szlifowanych ścian przy użyciu źródeł światła SCANGRIP\n9. Zastosowanie farb i podkładów gruntujących serii SEM MAT i SEM PRIM\, prawidłowa ich aplikacja w systemie natryskowym\n\n\nCZAS TRWANIA    SZKOLENIA   \n6 GODZIN\n\n\nHARMONOGRAM    SZKOLENIA   \n9.00 – 11.00 WSTĘP TEORETYCZNY\n11.00 – 11.20 PRZERWA KAWOWA\n11.20 – 13.30 ZAJĘCIA PRAKTYCZNE W STREFIE TESTÓW cz.1.\n13.30 – 14.00 Przerwa obiadowa\n13.30 – 15.30 ZAJĘCIA PRAKTYCZNE W STREFIE TESTÓW cz.2.\n15.30 – … WRĘCZENIE CERTYFIKATÓW I ZAKOŃCZENIE SZKOLENIA\n\n\nMATERIAŁY I    NARZĘDZIA   \nMASY SZPACHLOWE I FARBY SEMIN\nNARZĘDZIA RĘCZNE EDMA\, LEVEL 5 \, APLA-TECH\, PARFAIT LISS\nURZĄDZENIA I MATERIAŁY ŚCIERNE DO SZLIFOWANIA MIRKA I FLEX\nSYSTEMY OŚWIETLENIA SCANGRIP\n\n\nTRENERZY   \nMiłosław Białowicz – kierownik techniczny SEMIN\nPaweł Szymczak – doradca techniczno-handlowy SEMIN\nTomasz Jóźwiak – główny specjalista działu szkoleń Planeta Budowlana\nJarosław Pastor – Technik-Szkoleniowiec Planeta Budowlana\nPaweł Buliszak – doradca techniczno-handlowy Planeta Budowlana\n\n\nKOSZT SZKOLENIA  \nPŁATNE : 200 zł brutto. Ze względu na ograniczona ilość miejsc wymagana opłata przy rezerwacji miejsca
URL:https://planeta-budowlana.pl/event/krakow-semin-techniki-wykanczania-powierzchni-z-zastosowaniem-technologii-airless-2/
LOCATION:Planeta Budowlana Oddział Kraków\, Przewóz 21\, Kraków\, małopolskie\, 30-716
ATTACH;FMTTYPE=image/jpeg:https://planeta-budowlana.pl/wp-content/uploads/2020/12/semin-scaled.jpg
END:VEVENT
END:VCALENDAR