BEGIN:VCALENDAR
VERSION:2.0
PRODID:-//Planeta Budowlana - ECPv6.15.15//NONSGML v1.0//EN
CALSCALE:GREGORIAN
METHOD:PUBLISH
X-WR-CALNAME:Planeta Budowlana
X-ORIGINAL-URL:https://planeta-budowlana.pl
X-WR-CALDESC:Wydarzenia dla Planeta Budowlana
REFRESH-INTERVAL;VALUE=DURATION:PT1H
X-Robots-Tag:noindex
X-PUBLISHED-TTL:PT1H
BEGIN:VTIMEZONE
TZID:Europe/Warsaw
BEGIN:DAYLIGHT
TZOFFSETFROM:+0100
TZOFFSETTO:+0200
TZNAME:CEST
DTSTART:20230326T010000
END:DAYLIGHT
BEGIN:STANDARD
TZOFFSETFROM:+0200
TZOFFSETTO:+0100
TZNAME:CET
DTSTART:20231029T010000
END:STANDARD
BEGIN:DAYLIGHT
TZOFFSETFROM:+0100
TZOFFSETTO:+0200
TZNAME:CEST
DTSTART:20240331T010000
END:DAYLIGHT
BEGIN:STANDARD
TZOFFSETFROM:+0200
TZOFFSETTO:+0100
TZNAME:CET
DTSTART:20241027T010000
END:STANDARD
BEGIN:DAYLIGHT
TZOFFSETFROM:+0100
TZOFFSETTO:+0200
TZNAME:CEST
DTSTART:20250330T010000
END:DAYLIGHT
BEGIN:STANDARD
TZOFFSETFROM:+0200
TZOFFSETTO:+0100
TZNAME:CET
DTSTART:20251026T010000
END:STANDARD
END:VTIMEZONE
BEGIN:VEVENT
DTSTART;TZID=Europe/Warsaw:20240614T090000
DTEND;TZID=Europe/Warsaw:20240614T160000
DTSTAMP:20260420T225333
CREATED:20240326T164810Z
LAST-MODIFIED:20240326T164810Z
UID:63987-1718355600-1718380800@planeta-budowlana.pl
SUMMARY:- WARSZAWA - SEMIN -Techniki wykańczania powierzchni z zastosowaniem technologii AIRLESS
DESCRIPTION:***Nowoczesne Techniki wykańczania powierzchni z zastosowaniem technologii AIRLESS***\nPartnerzy szkolenia:\nSemin Polska\nScangrip\nMirka\nFLEX\nEUROMAIR\nGRONE \nTemat szkolenia:\nOmówienie produktów Semin Polska + natrysk przy zastosowaniu agregatów GRONE\, Euromair – Miłosław Semin Polska\, Tomasz Jóźwiak Planeta Budowlana\nZastosowanie w praktyce narzędzi do szlifowania oraz dobór materiałów ściernych w zależności od podłoża – na bazie narzędzi MIRKA i FLEX\nOświetlenie budowy przy wsparciu marki Scangrip \n\n\n\nKIEDY  \n14.06.2024 godz. 9.00 – 16.00\n\n\nGDZIE    \nWARSZAWA\, ul. Radzymińska 157\n\n\nFORMA SZKOLENIA    \n1. WYKŁAD TEORETYCZNY\n2. TRENING PRAKTYCZNY z wykorzystaniem udostępnionych materiałów i narzędzi pod okiem wykwalifikowanych trenerów\n\n\nZAKRES SZKOLENIA   \n1. Zastosowanie mas szpachlowych finiszowych i startowych z oferty SEMIN (ExpertLiss\,       Proliss\, 3w1\, UFF\, EXTREM\n2. Techniki spoinowania z wykorzystanie różnych narzędzi\n3. Masy szpachlowe do spoinowania z zastosowaniem taśm i bez taśmowe (masy szpachlowe       CE78 Perfect Joint\, CE78 Perfect Light spoinowania CE 86 PATE)\n4. Trendy w materiałach wykończeniowych wykorzystywanych przy systemach Airless\n5. Przygotowanie podłoża przed wykonaniem warstw wierzchnich\n6. Omówienie prawidłowych technik aplikacji metodą natrysku Airless\n7. Szlifowanie bezpyłowe przy użyciu narzędzi MIRKA i FLEX\n8. Prawidłowe doświetlenie szlifowanych ścian przy użyciu źródeł światła SCANGRIP\n9. Zastosowanie farb i podkładów gruntujących serii SEM MAT i SEM PRIM\, prawidłowa ich aplikacja w systemie natryskowym\n\n\nCZAS TRWANIA    SZKOLENIA   \n6 GODZIN\n\n\nHARMONOGRAM    SZKOLENIA   \n9.00 – 11.00 WSTĘP TEORETYCZNY\n11.00 – 11.20 PRZERWA KAWOWA\n11.20 – 13.30 ZAJĘCIA PRAKTYCZNE W STREFIE TESTÓW cz.1.\n13.30 – 14.00 Przerwa obiadowa\n13.30 – 15.30 ZAJĘCIA PRAKTYCZNE W STREFIE TESTÓW cz.2.\n15.30 – … WRĘCZENIE CERTYFIKATÓW I ZAKOŃCZENIE SZKOLENIA\n\n\nMATERIAŁY I    NARZĘDZIA   \nMASY SZPACHLOWE I FARBY SEMIN\nNARZĘDZIA RĘCZNE EDMA\, LEVEL 5 \, APLA-TECH\, PARFAIT LISS\nURZĄDZENIA I MATERIAŁY ŚCIERNE DO SZLIFOWANIA MIRKA I FLEX\nSYSTEMY OŚWIETLENIA SCANGRIP\n\n\nTRENERZY   \nMiłosław Białowicz – kierownik techniczny SEMIN\nMarcin Trzeciak – doradca techniczno-handlowy SEMIN\nTomasz Jóźwiak – główny specjalista działu szkoleń Planeta Budowlana\nPrzemysław Woldan – doradca techniczno-handlowy Planeta Budowlana\n\n\nKOSZT SZKOLENIA  \nPŁATNE : 200 zł brutto. Ze względu na ograniczona ilość miejsc wymagana opłata przy rezerwacji miejsca \nJeśli masz pytania dotyczące szkolenia: \nSKONTAKTUJ SIĘ Z NAMI: +48 603 040 927\, przemek@agregaty-malarskie.pl
URL:https://planeta-budowlana.pl/event/warszawa-semin-techniki-wykanczania-powierzchni-z-zastosowaniem-technologii-airless/
LOCATION:Planeta Budowlana Oddział Warszawa\, Radzymińska 157\, Warszawa\, mazowieckie\, 03-576\, Poland
ATTACH;FMTTYPE=image/jpeg:https://planeta-budowlana.pl/wp-content/uploads/2020/12/semin-scaled.jpg
END:VEVENT
BEGIN:VEVENT
DTSTART;TZID=Europe/Warsaw:20240614T090000
DTEND;TZID=Europe/Warsaw:20240614T160000
DTSTAMP:20260420T225333
CREATED:20240326T164810Z
LAST-MODIFIED:20240326T164810Z
UID:65120-1718355600-1718380800@planeta-budowlana.pl
SUMMARY:- WARSZAWA - SEMIN -Techniki wykańczania powierzchni z zastosowaniem technologii AIRLESS
DESCRIPTION:***Nowoczesne Techniki wykańczania powierzchni z zastosowaniem technologii AIRLESS***\nPartnerzy szkolenia:\nSemin Polska\nScangrip\nMirka\nFLEX\nEUROMAIR\nGRONE \nTemat szkolenia:\nOmówienie produktów Semin Polska + natrysk przy zastosowaniu agregatów GRONE\, Euromair – Miłosław Semin Polska\, Tomasz Jóźwiak Planeta Budowlana\nZastosowanie w praktyce narzędzi do szlifowania oraz dobór materiałów ściernych w zależności od podłoża – na bazie narzędzi MIRKA i FLEX\nOświetlenie budowy przy wsparciu marki Scangrip \n\n\n\nKIEDY  \n14.06.2024 godz. 9.00 – 16.00\n\n\nGDZIE    \nWARSZAWA\, ul. Radzymińska 157\n\n\nFORMA SZKOLENIA    \n1. WYKŁAD TEORETYCZNY\n2. TRENING PRAKTYCZNY z wykorzystaniem udostępnionych materiałów i narzędzi pod okiem wykwalifikowanych trenerów\n\n\nZAKRES SZKOLENIA   \n1. Zastosowanie mas szpachlowych finiszowych i startowych z oferty SEMIN (ExpertLiss\,       Proliss\, 3w1\, UFF\, EXTREM\n2. Techniki spoinowania z wykorzystanie różnych narzędzi\n3. Masy szpachlowe do spoinowania z zastosowaniem taśm i bez taśmowe (masy szpachlowe       CE78 Perfect Joint\, CE78 Perfect Light spoinowania CE 86 PATE)\n4. Trendy w materiałach wykończeniowych wykorzystywanych przy systemach Airless\n5. Przygotowanie podłoża przed wykonaniem warstw wierzchnich\n6. Omówienie prawidłowych technik aplikacji metodą natrysku Airless\n7. Szlifowanie bezpyłowe przy użyciu narzędzi MIRKA i FLEX\n8. Prawidłowe doświetlenie szlifowanych ścian przy użyciu źródeł światła SCANGRIP\n9. Zastosowanie farb i podkładów gruntujących serii SEM MAT i SEM PRIM\, prawidłowa ich aplikacja w systemie natryskowym\n\n\nCZAS TRWANIA    SZKOLENIA   \n6 GODZIN\n\n\nHARMONOGRAM    SZKOLENIA   \n9.00 – 11.00 WSTĘP TEORETYCZNY\n11.00 – 11.20 PRZERWA KAWOWA\n11.20 – 13.30 ZAJĘCIA PRAKTYCZNE W STREFIE TESTÓW cz.1.\n13.30 – 14.00 Przerwa obiadowa\n13.30 – 15.30 ZAJĘCIA PRAKTYCZNE W STREFIE TESTÓW cz.2.\n15.30 – … WRĘCZENIE CERTYFIKATÓW I ZAKOŃCZENIE SZKOLENIA\n\n\nMATERIAŁY I    NARZĘDZIA   \nMASY SZPACHLOWE I FARBY SEMIN\nNARZĘDZIA RĘCZNE EDMA\, LEVEL 5 \, APLA-TECH\, PARFAIT LISS\nURZĄDZENIA I MATERIAŁY ŚCIERNE DO SZLIFOWANIA MIRKA I FLEX\nSYSTEMY OŚWIETLENIA SCANGRIP\n\n\nTRENERZY   \nMiłosław Białowicz – kierownik techniczny SEMIN\nMarcin Trzeciak – doradca techniczno-handlowy SEMIN\nTomasz Jóźwiak – główny specjalista działu szkoleń Planeta Budowlana\nPrzemysław Woldan – doradca techniczno-handlowy Planeta Budowlana\n\n\nKOSZT SZKOLENIA  \nPŁATNE : 200 zł brutto. Ze względu na ograniczona ilość miejsc wymagana opłata przy rezerwacji miejsca \nJeśli masz pytania dotyczące szkolenia: \nSKONTAKTUJ SIĘ Z NAMI: +48 603 040 927\, przemek@agregaty-malarskie.pl
URL:https://planeta-budowlana.pl/event/warszawa-semin-techniki-wykanczania-powierzchni-z-zastosowaniem-technologii-airless-4/
LOCATION:Planeta Budowlana Oddział Warszawa\, Radzymińska 157\, Warszawa\, mazowieckie\, 03-576\, Poland
ATTACH;FMTTYPE=image/jpeg:https://planeta-budowlana.pl/wp-content/uploads/2020/12/semin-scaled.jpg
END:VEVENT
END:VCALENDAR