BEGIN:VCALENDAR
VERSION:2.0
PRODID:-//Planeta Budowlana - ECPv6.15.15//NONSGML v1.0//EN
CALSCALE:GREGORIAN
METHOD:PUBLISH
X-ORIGINAL-URL:https://planeta-budowlana.pl
X-WR-CALDESC:Wydarzenia dla Planeta Budowlana
REFRESH-INTERVAL;VALUE=DURATION:PT1H
X-Robots-Tag:noindex
X-PUBLISHED-TTL:PT1H
BEGIN:VTIMEZONE
TZID:Europe/Warsaw
BEGIN:DAYLIGHT
TZOFFSETFROM:+0100
TZOFFSETTO:+0200
TZNAME:CEST
DTSTART:20250330T010000
END:DAYLIGHT
BEGIN:STANDARD
TZOFFSETFROM:+0200
TZOFFSETTO:+0100
TZNAME:CET
DTSTART:20251026T010000
END:STANDARD
BEGIN:DAYLIGHT
TZOFFSETFROM:+0100
TZOFFSETTO:+0200
TZNAME:CEST
DTSTART:20260329T010000
END:DAYLIGHT
BEGIN:STANDARD
TZOFFSETFROM:+0200
TZOFFSETTO:+0100
TZNAME:CET
DTSTART:20261025T010000
END:STANDARD
BEGIN:DAYLIGHT
TZOFFSETFROM:+0100
TZOFFSETTO:+0200
TZNAME:CEST
DTSTART:20270328T010000
END:DAYLIGHT
BEGIN:STANDARD
TZOFFSETFROM:+0200
TZOFFSETTO:+0100
TZNAME:CET
DTSTART:20271031T010000
END:STANDARD
END:VTIMEZONE
BEGIN:VEVENT
DTSTART;TZID=Europe/Warsaw:20260421T090000
DTEND;TZID=Europe/Warsaw:20260421T160000
DTSTAMP:20260419T230709
CREATED:20260407T092919Z
LAST-MODIFIED:20260407T094656Z
UID:68786-1776762000-1776787200@planeta-budowlana.pl
SUMMARY:Zjazd Wykonawców Planeta Budowlana w Warszawie
DESCRIPTION:***** ZAPRASZAMY!!! ******\n\n\nZJAZD WYKONAWCÓW I DOSTAWCÓW\nPlaneta Budowlana w Warszawie\n\n\n\n\nJuż 21 kwietnia Mega Impreza. To jedno z większych wydarzeń w Warszawie skupiających branżę wykończeniową. To czas na spotkanie wykonawców z producentami i dostawcami\, prezentacji produktów i technologii\, premier rynkowych i licznych szkoleń. Prezentacje nowości w ofercie producentów\, zdobywania nowych kontaktów ale też czas na chwilę wytchnienia w naszej STREFIE RELAKSU gdzie będzie czakać na Państwa wiele konkursów z cennymi nagrodami oraz GRILL i chłodne napoje.\n\n\n\n!!! MEGA KONKURS  !!!!\nDo wygrania agregat malarski Durapro P21\n\n\n\nChcesz poznać już teraz więcej szczegółów?\n\n\n****ZADZWOŃ – 603 040 927 ****\n\n\n\n\nZjazd Wykonawców Planeta Budowlana w Warszawie !!!\n\n\n 21 kwietnia\n Godz. 9:00–16:00\n\n\nGraco Tour 2026  Edycja  100-lecie GRACO \n\n\n Premiery produktowe\n Pokazy maszyn i narzędzi\n Oferty specjalne od partnerów\n Konkursy i grill\n Bezpłatny serwis maszyn GRACO\n\n\n Do wygrania m.in. agregat DURAPRO P21\n\n\n\nA w strefie testów m.in.:\n Nauczymy Cię\, jak aplikować farby i gładzie z wykorzystaniem urządzeń GRACO\n Pokażemy Ci\, jak wykonać ukryte przyciski EDPLIT w glazurze z firmami PROXXON i DISTAR\n Nauczysz się\, jak dobierać odpowiednie wałki do podłoża i rodzaju farby z firmą WOOSTER\n Pokażemy Ci\, jak szlifować ściany oraz jak dobierać materiał ścierny do gładzi z firmą MIRKA\n Nauczysz się spoinować płyty G-K z wykorzystaniem systemów automatycznego spoinowanie LEVEL 5\n\n\nPartnerzy wydarzenia:\n Graco  Mirka Poland Semin Polska  Farby KABE – szwajcarska jakość\n Narzędzia Wooster Importer  Rollingdog Tools Manufacturer EDPLIT Proxxon LEVEL5 Tools  Olejnik Professional  URSA Polska by Etex  Alchimica Polska  Schwamborn Gerätebau GmbH\n\n\nCo przygotowali dla Was partnerzy? \nObserwujcie i sprawdzajcie na bieżąco — w najbliższych dniach odsłonimy kolejne elementy programu\, atrakcje i specjalne promocje.\n\n\nZapraszamy!\n Planeta Budowlana — jeśli wydarzenie dedykowane Wykonawcom\, to tylko na huczne!
URL:https://planeta-budowlana.pl/event/zjazd-wykonawcow-planeta-budowlana-w-warszawie/
LOCATION:Planeta Budowlana Oddział Warszawa\, Radzymińska 157\, Warszawa\, mazowieckie\, 03-576\, Poland
ATTACH;FMTTYPE=image/jpeg:https://planeta-budowlana.pl/wp-content/uploads/2026/04/zjazd-graco-kalendarz.jpg
END:VEVENT
END:VCALENDAR